BEGIN:VCALENDAR
VERSION:2.0
PRODID:-//Wix Insurance Agency - ECPv6.15.20//NONSGML v1.0//EN
CALSCALE:GREGORIAN
METHOD:PUBLISH
X-WR-CALNAME:Wix Insurance Agency
X-ORIGINAL-URL:https://wixagency.com
X-WR-CALDESC:Events for Wix Insurance Agency
REFRESH-INTERVAL;VALUE=DURATION:PT1H
X-Robots-Tag:noindex
X-PUBLISHED-TTL:PT1H
BEGIN:VTIMEZONE
TZID:America/Los_Angeles
BEGIN:DAYLIGHT
TZOFFSETFROM:-0800
TZOFFSETTO:-0700
TZNAME:PDT
DTSTART:20240310T100000
END:DAYLIGHT
BEGIN:STANDARD
TZOFFSETFROM:-0700
TZOFFSETTO:-0800
TZNAME:PST
DTSTART:20241103T090000
END:STANDARD
BEGIN:DAYLIGHT
TZOFFSETFROM:-0800
TZOFFSETTO:-0700
TZNAME:PDT
DTSTART:20250309T100000
END:DAYLIGHT
BEGIN:STANDARD
TZOFFSETFROM:-0700
TZOFFSETTO:-0800
TZNAME:PST
DTSTART:20251102T090000
END:STANDARD
BEGIN:DAYLIGHT
TZOFFSETFROM:-0800
TZOFFSETTO:-0700
TZNAME:PDT
DTSTART:20260308T100000
END:DAYLIGHT
BEGIN:STANDARD
TZOFFSETFROM:-0700
TZOFFSETTO:-0800
TZNAME:PST
DTSTART:20261101T090000
END:STANDARD
END:VTIMEZONE
BEGIN:VEVENT
DTSTART;TZID=America/Los_Angeles:20251120T130000
DTEND;TZID=America/Los_Angeles:20251120T150000
DTSTAMP:20260419T071208
CREATED:20251008T185003Z
LAST-MODIFIED:20251008T185003Z
UID:4838-1763643600-1763650800@wixagency.com
SUMMARY:Medicare Resource Center
DESCRIPTION:It’s that time of year again! \nEvery year\, we like to provide an opportunity to meet with our clients and discuss changes to our client’s specific Medicare plan. Resource centers are an informal “drop-in” event intended to answer questions about your plan. Consider dropping by one of these events\, or call us at (503) 255-5450 to discuss your plan’s 2026 updates.
URL:https://wixagency.com/event/medicare-resource-center-18/
LOCATION:Randy Kugler Community Center\, 299 S 23rd St\, Philomath\, OR\, 97370
CATEGORIES:Resource Centers,Salem,Medicare
END:VEVENT
BEGIN:VEVENT
DTSTART;TZID=America/Los_Angeles:20251119T110000
DTEND;TZID=America/Los_Angeles:20251119T150000
DTSTAMP:20260419T071208
CREATED:20251008T184934Z
LAST-MODIFIED:20251008T184934Z
UID:4837-1763550000-1763564400@wixagency.com
SUMMARY:Medicare Resource Center
DESCRIPTION:It’s that time of year again! \nEvery year\, we like to provide an opportunity to meet with our clients and discuss changes to our client’s specific Medicare plan. Resource centers are an informal “drop-in” event intended to answer questions about your plan. Consider dropping by one of these events\, or call us at (503) 255-5450 to discuss your plan’s 2026 updates.
URL:https://wixagency.com/event/medicare-resource-center-17/
LOCATION:The Corvallis Clinic Aumann\, 444 NW Elks Dr\, Corvallis\, OR\, 97330
CATEGORIES:Resource Centers,Salem,Medicare
END:VEVENT
BEGIN:VEVENT
DTSTART;TZID=America/Los_Angeles:20251119T100000
DTEND;TZID=America/Los_Angeles:20251119T110000
DTSTAMP:20260419T071208
CREATED:20251008T184856Z
LAST-MODIFIED:20251008T184856Z
UID:4836-1763546400-1763550000@wixagency.com
SUMMARY:Medicare Seminar: Wellcare
DESCRIPTION:It’s that time of year again! \nEvery year\, we like to provide an opportunity to meet with our clients and discuss changes to our client’s specific Medicare plan. Consider dropping by one of these events\, or call us at (503) 255-5450 to discuss your plan’s 2026 updates.
URL:https://wixagency.com/event/medicare-seminar-wellcare-8/
LOCATION:The Corvallis Clinic Aumann\, 444 NW Elks Dr\, Corvallis\, OR\, 97330
CATEGORIES:Wellcare,Salem,Medicare
END:VEVENT
BEGIN:VEVENT
DTSTART;TZID=America/Los_Angeles:20251118T100000
DTEND;TZID=America/Los_Angeles:20251118T150000
DTSTAMP:20260419T071208
CREATED:20251008T184759Z
LAST-MODIFIED:20251008T184759Z
UID:4835-1763460000-1763478000@wixagency.com
SUMMARY:Medicare Resource Center
DESCRIPTION:It’s that time of year again! \nEvery year\, we like to provide an opportunity to meet with our clients and discuss changes to our client’s specific Medicare plan. Resource centers are an informal “drop-in” event intended to answer questions about your plan. Consider dropping by one of these events\, or call us at (503) 255-5450 to discuss your plan’s 2026 updates.
URL:https://wixagency.com/event/medicare-resource-center-16/
LOCATION:Silver Creek Fellowship\, 822 Industrial Way NE\, Silverton\, OR\, 97381
CATEGORIES:Resource Centers,Salem,Medicare
END:VEVENT
BEGIN:VEVENT
DTSTART;TZID=America/Los_Angeles:20251117T110000
DTEND;TZID=America/Los_Angeles:20251117T150000
DTSTAMP:20260419T071208
CREATED:20251008T184641Z
LAST-MODIFIED:20251008T184641Z
UID:4834-1763377200-1763391600@wixagency.com
SUMMARY:Medicare Resource Center
DESCRIPTION:It’s that time of year again! \nEvery year\, we like to provide an opportunity to meet with our clients and discuss changes to our client’s specific Medicare plan. Resource centers are an informal “drop-in” event intended to answer questions about your plan. Consider dropping by one of these events\, or call us at (503) 255-5450 to discuss your plan’s 2026 updates.
URL:https://wixagency.com/event/medicare-resource-center-15/
LOCATION:Comfort Suites Albany\, 100 Opal Court\, Albany\, OR\, 97322
CATEGORIES:Resource Centers,Salem,Medicare
END:VEVENT
BEGIN:VEVENT
DTSTART;TZID=America/Los_Angeles:20251117T100000
DTEND;TZID=America/Los_Angeles:20251117T110000
DTSTAMP:20260419T071208
CREATED:20251008T184558Z
LAST-MODIFIED:20251008T184558Z
UID:4833-1763373600-1763377200@wixagency.com
SUMMARY:Medicare Seminar: Wellcare
DESCRIPTION:It’s that time of year again! \nEvery year\, we like to provide an opportunity to meet with our clients and discuss changes to our client’s specific Medicare plan. Consider dropping by one of these events\, or call us at (503) 255-5450 to discuss your plan’s 2026 updates.
URL:https://wixagency.com/event/medicare-seminar-wellcare-7/
LOCATION:Comfort Suites Albany\, 100 Opal Court\, Albany\, OR\, 97322
CATEGORIES:Wellcare,Salem,Medicare
END:VEVENT
BEGIN:VEVENT
DTSTART;TZID=America/Los_Angeles:20251114T100000
DTEND;TZID=America/Los_Angeles:20251114T150000
DTSTAMP:20260419T071208
CREATED:20251008T184528Z
LAST-MODIFIED:20251008T184528Z
UID:4832-1763114400-1763132400@wixagency.com
SUMMARY:Medicare Resource Center
DESCRIPTION:It’s that time of year again! \nEvery year\, we like to provide an opportunity to meet with our clients and discuss changes to our client’s specific Medicare plan. Resource centers are an informal “drop-in” event intended to answer questions about your plan. Consider dropping by one of these events\, or call us at (503) 255-5450 to discuss your plan’s 2026 updates.
URL:https://wixagency.com/event/medicare-resource-center-14/
LOCATION:Stayton Fire District\, 1988 W Ida St Stayton\, OR\, 97383
CATEGORIES:Resource Centers,Salem,Medicare
END:VEVENT
BEGIN:VEVENT
DTSTART;TZID=America/Los_Angeles:20251113T100000
DTEND;TZID=America/Los_Angeles:20251113T150000
DTSTAMP:20260419T071208
CREATED:20251008T184430Z
LAST-MODIFIED:20251008T184430Z
UID:4830-1763028000-1763046000@wixagency.com
SUMMARY:Medicare Resource Center
DESCRIPTION:It’s that time of year again! \nEvery year\, we like to provide an opportunity to meet with our clients and discuss changes to our client’s specific Medicare plan. Resource centers are an informal “drop-in” event intended to answer questions about your plan. Consider dropping by one of these events\, or call us at (503) 255-5450 to discuss your plan’s 2026 updates.
URL:https://wixagency.com/event/medicare-resource-center-13/
LOCATION:Chemeketa Eola Vineyards\, 215 Doaks Ferry Rd NW\, Salem\, OR\, 97304
CATEGORIES:Resource Centers,Salem,Medicare
END:VEVENT
BEGIN:VEVENT
DTSTART;TZID=America/Los_Angeles:20251112T110000
DTEND;TZID=America/Los_Angeles:20251112T150000
DTSTAMP:20260419T071208
CREATED:20251008T184303Z
LAST-MODIFIED:20251008T184454Z
UID:4829-1762945200-1762959600@wixagency.com
SUMMARY:Medicare Resource Center
DESCRIPTION:It’s that time of year again! \nEvery year\, we like to provide an opportunity to meet with our clients and discuss changes to our client’s specific Medicare plan. Resource centers are an informal “drop-in” event intended to answer questions about your plan. Consider dropping by one of these events\, or call us at (503) 255-5450 to discuss your plan’s 2026 updates.
URL:https://wixagency.com/event/medicare-resource-center-12/
LOCATION:Santiam Place\, 139 S. Main St\, Lebanon\, OR\, 97355
CATEGORIES:Resource Centers,Salem,Medicare
END:VEVENT
BEGIN:VEVENT
DTSTART;TZID=America/Los_Angeles:20251112T100000
DTEND;TZID=America/Los_Angeles:20251112T110000
DTSTAMP:20260419T071208
CREATED:20251008T184235Z
LAST-MODIFIED:20251008T184443Z
UID:4828-1762941600-1762945200@wixagency.com
SUMMARY:Medicare Seminar: Wellcare
DESCRIPTION:It’s that time of year again! \nEvery year\, we like to provide an opportunity to meet with our clients and discuss changes to our client’s specific Medicare plan. Consider dropping by one of these events\, or call us at (503) 255-5450 to discuss your plan’s 2026 updates.
URL:https://wixagency.com/event/medicare-seminar-wellcare-6/
LOCATION:Santiam Place\, 139 S. Main St\, Lebanon\, OR\, 97355
CATEGORIES:Wellcare,Salem,Medicare
END:VEVENT
BEGIN:VEVENT
DTSTART;TZID=America/Los_Angeles:20251111T100000
DTEND;TZID=America/Los_Angeles:20251111T150000
DTSTAMP:20260419T071208
CREATED:20251008T184159Z
LAST-MODIFIED:20251008T184159Z
UID:4827-1762855200-1762873200@wixagency.com
SUMMARY:Medicare Resource Center
DESCRIPTION:It’s that time of year again! \nEvery year\, we like to provide an opportunity to meet with our clients and discuss changes to our client’s specific Medicare plan. Resource centers are an informal “drop-in” event intended to answer questions about your plan. Consider dropping by one of these events\, or call us at (503) 255-5450 to discuss your plan’s 2026 updates.
URL:https://wixagency.com/event/medicare-resource-center-11/
LOCATION:Broadway Commons\, 1300 Broadway St NE\, Salem\, OR\, 97301
CATEGORIES:Resource Centers,Salem,Medicare
END:VEVENT
BEGIN:VEVENT
DTSTART;TZID=America/Los_Angeles:20251110T120000
DTEND;TZID=America/Los_Angeles:20251110T150000
DTSTAMP:20260419T071208
CREATED:20251008T183351Z
LAST-MODIFIED:20251008T183351Z
UID:4826-1762776000-1762786800@wixagency.com
SUMMARY:Medicare Resource Center
DESCRIPTION:It’s that time of year again! \nEvery year\, we like to provide an opportunity to meet with our clients and discuss changes to our client’s specific Medicare plan. Resource centers are an informal “drop-in” event intended to answer questions about your plan. Consider dropping by one of these events\, or call us at (503) 255-5450 to discuss your plan’s 2026 updates.
URL:https://wixagency.com/event/medicare-resource-center-10/
LOCATION:Sweet Home Senior Center\, 880 18th Ave\, Sweet Home\, OR\, 97386
CATEGORIES:Resource Centers,Salem,Medicare
END:VEVENT
BEGIN:VEVENT
DTSTART;TZID=America/Los_Angeles:20251110T110000
DTEND;TZID=America/Los_Angeles:20251110T120000
DTSTAMP:20260419T071208
CREATED:20251008T183319Z
LAST-MODIFIED:20251008T183319Z
UID:4825-1762772400-1762776000@wixagency.com
SUMMARY:Medicare Seminar: Wellcare
DESCRIPTION:It’s that time of year again! \nEvery year\, we like to provide an opportunity to meet with our clients and discuss changes to our client’s specific Medicare plan. Consider dropping by one of these events\, or call us at (503) 255-5450 to discuss your plan’s 2026 updates.
URL:https://wixagency.com/event/medicare-seminar-wellcare-5/
LOCATION:Sweet Home Senior Center\, 880 18th Ave\, Sweet Home\, OR\, 97386
CATEGORIES:Wellcare,Salem,Medicare
END:VEVENT
BEGIN:VEVENT
DTSTART;TZID=America/Los_Angeles:20251030T130000
DTEND;TZID=America/Los_Angeles:20251030T153000
DTSTAMP:20260419T071208
CREATED:20251008T183202Z
LAST-MODIFIED:20251008T183202Z
UID:4823-1761829200-1761838200@wixagency.com
SUMMARY:Medicare Resource Center
DESCRIPTION:It’s that time of year again! \nEvery year\, we like to provide an opportunity to meet with our clients and discuss changes to our client’s specific Medicare plan. Resource centers are an informal “drop-in” event intended to answer questions about your plan. Consider dropping by one of these events\, or call us at (503) 255-5450 to discuss your plan’s 2026 updates.
URL:https://wixagency.com/event/medicare-resource-center-9/
LOCATION:Randy Kugler Community Center\, 299 S 23rd St\, Philomath\, OR\, 97370
CATEGORIES:Resource Centers,Salem,Medicare
END:VEVENT
BEGIN:VEVENT
DTSTART;TZID=America/Los_Angeles:20251024T120000
DTEND;TZID=America/Los_Angeles:20251024T150000
DTSTAMP:20260419T071208
CREATED:20251008T183044Z
LAST-MODIFIED:20251008T183243Z
UID:4822-1761307200-1761318000@wixagency.com
SUMMARY:Medicare Resource Center
DESCRIPTION:It’s that time of year again! \nEvery year\, we like to provide an opportunity to meet with our clients and discuss changes to our client’s specific Medicare plan. Resource centers are an informal “drop-in” event intended to answer questions about your plan. Consider dropping by one of these events\, or call us at (503) 255-5450 to discuss your plan’s 2026 updates.
URL:https://wixagency.com/event/medicare-resource-center-8/
LOCATION:Sweet Home Senior Center\, 880 18th Ave\, Sweet Home\, OR\, 97386
CATEGORIES:Resource Centers,Salem,Medicare
END:VEVENT
BEGIN:VEVENT
DTSTART;TZID=America/Los_Angeles:20251024T110000
DTEND;TZID=America/Los_Angeles:20251024T120000
DTSTAMP:20260419T071208
CREATED:20251008T182818Z
LAST-MODIFIED:20251008T182818Z
UID:4819-1761303600-1761307200@wixagency.com
SUMMARY:Medicare Seminar: Wellcare
DESCRIPTION:It’s that time of year again! \nEvery year\, we like to provide an opportunity to meet with our clients and discuss changes to our client’s specific Medicare plan. Consider dropping by one of these events\, or call us at (503) 255-5450 to discuss your plan’s 2026 updates.
URL:https://wixagency.com/event/medicare-seminar-wellcare-4/
LOCATION:Sweet Home Senior Center\, 880 18th Ave\, Sweet Home\, OR\, 97386
CATEGORIES:Wellcare,Salem,Medicare
END:VEVENT
BEGIN:VEVENT
DTSTART;TZID=America/Los_Angeles:20251023T100000
DTEND;TZID=America/Los_Angeles:20251023T150000
DTSTAMP:20260419T071208
CREATED:20251008T182454Z
LAST-MODIFIED:20251008T182454Z
UID:4817-1761213600-1761231600@wixagency.com
SUMMARY:Medicare Resource Center
DESCRIPTION:It’s that time of year again! \nEvery year\, we like to provide an opportunity to meet with our clients and discuss changes to our client’s specific Medicare plan. Resource centers are an informal “drop-in” event intended to answer questions about your plan. Consider dropping by one of these events\, or call us at (503) 255-5450 to discuss your plan’s 2026 updates.
URL:https://wixagency.com/event/medicare-resource-center-7/
LOCATION:Silver Creek Fellowship\, 822 Industrial Way NE\, Silverton\, OR\, 97381
CATEGORIES:Resource Centers,Salem,Medicare
END:VEVENT
BEGIN:VEVENT
DTSTART;TZID=America/Los_Angeles:20251022T110000
DTEND;TZID=America/Los_Angeles:20251022T150000
DTSTAMP:20260419T071208
CREATED:20251008T182400Z
LAST-MODIFIED:20251008T182400Z
UID:4816-1761130800-1761145200@wixagency.com
SUMMARY:Medicare Resource Center
DESCRIPTION:It’s that time of year again! \nEvery year\, we like to provide an opportunity to meet with our clients and discuss changes to our client’s specific Medicare plan. Resource centers are an informal “drop-in” event intended to answer questions about your plan. Consider dropping by one of these events\, or call us at (503) 255-5450 to discuss your plan’s 2026 updates.
URL:https://wixagency.com/event/medicare-resource-center-6/
LOCATION:Santiam Place\, 139 S. Main St\, Lebanon\, OR\, 97355
CATEGORIES:Resource Centers,Salem,Medicare
END:VEVENT
BEGIN:VEVENT
DTSTART;TZID=America/Los_Angeles:20251022T100000
DTEND;TZID=America/Los_Angeles:20251022T110000
DTSTAMP:20260419T071208
CREATED:20251008T182320Z
LAST-MODIFIED:20251008T182320Z
UID:4814-1761127200-1761130800@wixagency.com
SUMMARY:Medicare Seminar: Wellcare
DESCRIPTION:It’s that time of year again! \nEvery year\, we like to provide an opportunity to meet with our clients and discuss changes to our client’s specific Medicare plan. Consider dropping by one of these events\, or call us at (503) 255-5450 to discuss your plan’s 2026 updates.
URL:https://wixagency.com/event/medicare-seminar-wellcare-3/
LOCATION:Santiam Place\, 139 S. Main St\, Lebanon\, OR\, 97355
CATEGORIES:Wellcare,Salem,Medicare
END:VEVENT
BEGIN:VEVENT
DTSTART;TZID=America/Los_Angeles:20251021T100000
DTEND;TZID=America/Los_Angeles:20251021T150000
DTSTAMP:20260419T071208
CREATED:20251008T181002Z
LAST-MODIFIED:20251008T181002Z
UID:4812-1761040800-1761058800@wixagency.com
SUMMARY:Medicare Resource Center
DESCRIPTION:It’s that time of year again! \nEvery year\, we like to provide an opportunity to meet with our clients and discuss changes to our client’s specific Medicare plan. Resource centers are an informal “drop-in” event intended to answer questions about your plan. Consider dropping by one of these events\, or call us at (503) 255-5450 to discuss your plan’s 2026 updates.
URL:https://wixagency.com/event/medicare-resource-center-5/
LOCATION:Chemeketa Eola Vineyards\, 215 Doaks Ferry Rd NW\, Salem\, OR\, 97304
CATEGORIES:Resource Centers,Salem,Medicare
END:VEVENT
BEGIN:VEVENT
DTSTART;TZID=America/Los_Angeles:20251021T100000
DTEND;TZID=America/Los_Angeles:20251021T130000
DTSTAMP:20260419T071208
CREATED:20251008T180851Z
LAST-MODIFIED:20251008T180851Z
UID:4811-1761040800-1761051600@wixagency.com
SUMMARY:Medicare Plan Changes: Humana\, Aetna
DESCRIPTION:Ready for Annual Enrollment Period? \nEvery year\, we like to provide an opportunity to meet with our clients and discuss changes to our client’s specific Medicare plans. This year\, we would like to invite you to one of several events at our Portland office. We plan on holding a number of events that are company/plan specific. This will allow us to review and discuss any upcoming changes to your 2026 Medicare plan. We would like to invite you to attend any of the following events. \nPlease bring your Medicare card and a friend to any of these events. We would be glad to meet with them too. If you have any questions\, please feel to reach out to us at (503) 255-5450 and we will be glad to help you. \nWe look forward to seeing you again!
URL:https://wixagency.com/event/medicare-plan-changes-humana-aetna/
LOCATION:Wix Portland\, 7300 NE Glisan St.\, Portland\, OR\, 97213
CATEGORIES:Aetna,Humana,Medicare
END:VEVENT
BEGIN:VEVENT
DTSTART;TZID=America/Los_Angeles:20251020T100000
DTEND;TZID=America/Los_Angeles:20251020T150000
DTSTAMP:20260419T071208
CREATED:20251008T180630Z
LAST-MODIFIED:20251008T180630Z
UID:4809-1760954400-1760972400@wixagency.com
SUMMARY:Medicare Resource Center
DESCRIPTION:It’s that time of year again! \nEvery year\, we like to provide an opportunity to meet with our clients and discuss changes to our client’s specific Medicare plan. Resource centers are an informal “drop-in” event intended to answer questions about your plan. Consider dropping by one of these events\, or call us at (503) 255-5450 to discuss your plan’s 2026 updates.
URL:https://wixagency.com/event/medicare-resource-center-4/
LOCATION:Stayton Fire District\, 1988 W Ida St Stayton\, OR\, 97383
CATEGORIES:Resource Centers,Salem,Medicare
END:VEVENT
BEGIN:VEVENT
DTSTART;TZID=America/Los_Angeles:20251020T100000
DTEND;TZID=America/Los_Angeles:20251020T130000
DTSTAMP:20260419T071208
CREATED:20251008T180435Z
LAST-MODIFIED:20251008T180755Z
UID:4808-1760954400-1760965200@wixagency.com
SUMMARY:Medicare Plan Changes: Pacific Source\, Devoted\, Kaiser
DESCRIPTION:Ready for Annual Enrollment Period? \nEvery year\, we like to provide an opportunity to meet with our clients and discuss changes to our client’s specific Medicare plans. This year\, we would like to invite you to one of several events at our Portland office. We plan on holding a number of events that are company/plan specific. This will allow us to review and discuss any upcoming changes to your 2026 Medicare plan. We would like to invite you to attend any of the following events. \nPlease bring your Medicare card and a friend to any of these events. We would be glad to meet with them too. If you have any questions\, please feel to reach out to us at (503) 255-5450 and we will be glad to help you. \nWe look forward to seeing you again!
URL:https://wixagency.com/event/medicare-plan-changes-pacific-source-devoted-kaiser/
LOCATION:Wix Portland\, 7300 NE Glisan St.\, Portland\, OR\, 97213
CATEGORIES:Devoted Health,Kaiser,Pacific Source,Medicare
END:VEVENT
BEGIN:VEVENT
DTSTART;TZID=America/Los_Angeles:20251017T110000
DTEND;TZID=America/Los_Angeles:20251017T150000
DTSTAMP:20260419T071208
CREATED:20251008T180340Z
LAST-MODIFIED:20251008T180656Z
UID:4807-1760698800-1760713200@wixagency.com
SUMMARY:Medicare Resource Center
DESCRIPTION:It’s that time of year again! \nEvery year\, we like to provide an opportunity to meet with our clients and discuss changes to our client’s specific Medicare plan. Resource centers are an informal “drop-in” event intended to answer questions about your plan. Consider dropping by one of these events\, or call us at (503) 255-5450 to discuss your plan’s 2026 updates.
URL:https://wixagency.com/event/medicare-resource-center-3/
LOCATION:Comfort Suites Albany\, 100 Opal Court\, Albany\, OR\, 97322
CATEGORIES:Resource Centers,Salem,Medicare
END:VEVENT
BEGIN:VEVENT
DTSTART;TZID=America/Los_Angeles:20251017T100000
DTEND;TZID=America/Los_Angeles:20251017T130000
DTSTAMP:20260419T071208
CREATED:20251008T180238Z
LAST-MODIFIED:20251008T180614Z
UID:4806-1760695200-1760706000@wixagency.com
SUMMARY:Medicare Plan Changes: Providence
DESCRIPTION:Ready for Annual Enrollment Period? \nEvery year\, we like to provide an opportunity to meet with our clients and discuss changes to our client’s specific Medicare plans. This year\, we would like to invite you to one of several events at our Portland office. We plan on holding a number of events that are company/plan specific. This will allow us to review and discuss any upcoming changes to your 2026 Medicare plan. We would like to invite you to attend any of the following events. \nPlease bring your Medicare card and a friend to any of these events. We would be glad to meet with them too. If you have any questions\, please feel to reach out to us at (503) 255-5450 and we will be glad to help you. \nWe look forward to seeing you again!
URL:https://wixagency.com/event/medicare-plan-changes-providence/
LOCATION:Wix Portland\, 7300 NE Glisan St.\, Portland\, OR\, 97213
CATEGORIES:Providence,Medicare
END:VEVENT
BEGIN:VEVENT
DTSTART;TZID=America/Los_Angeles:20251017T100000
DTEND;TZID=America/Los_Angeles:20251017T110000
DTSTAMP:20260419T071208
CREATED:20251008T180149Z
LAST-MODIFIED:20251008T180708Z
UID:4804-1760695200-1760698800@wixagency.com
SUMMARY:Medicare Seminar: Wellcare
DESCRIPTION:It’s that time of year again! \nEvery year\, we like to provide an opportunity to meet with our clients and discuss changes to our client’s specific Medicare plan. Consider dropping by one of these events\, or call us at (503) 255-5450 to discuss your plan’s 2026 updates.
URL:https://wixagency.com/event/medicare-seminar-wellcare-2/
LOCATION:Comfort Suites Albany\, 100 Opal Court\, Albany\, OR\, 97322
CATEGORIES:Wellcare,Salem,Medicare
END:VEVENT
BEGIN:VEVENT
DTSTART;TZID=America/Los_Angeles:20251016T100000
DTEND;TZID=America/Los_Angeles:20251016T150000
DTSTAMP:20260419T071208
CREATED:20251008T180034Z
LAST-MODIFIED:20251008T180034Z
UID:4802-1760608800-1760626800@wixagency.com
SUMMARY:Medicare Resource Center
DESCRIPTION:It’s that time of year again! \nEvery year\, we like to provide an opportunity to meet with our clients and discuss changes to our client’s specific Medicare plan. Resource centers are an informal “drop-in” event intended to answer questions about your plan. Consider dropping by one of these events\, or call us at (503) 255-5450 to discuss your plan’s 2026 updates.
URL:https://wixagency.com/event/medicare-resource-center-2/
LOCATION:Broadway Commons\, 1300 Broadway St NE\, Salem\, OR\, 97301
CATEGORIES:Resource Centers,Salem,Medicare
END:VEVENT
BEGIN:VEVENT
DTSTART;TZID=America/Los_Angeles:20251016T100000
DTEND;TZID=America/Los_Angeles:20251016T130000
DTSTAMP:20260419T071208
CREATED:20251008T175824Z
LAST-MODIFIED:20251008T175909Z
UID:4801-1760608800-1760619600@wixagency.com
SUMMARY:Medicare Plan Changes: Regence
DESCRIPTION:Ready for Annual Enrollment Period? \nEvery year\, we like to provide an opportunity to meet with our clients and discuss changes to our client’s specific Medicare plans. This year\, we would like to invite you to one of several events at our Portland office. We plan on holding a number of events that are company/plan specific. This will allow us to review and discuss any upcoming changes to your 2026 Medicare plan. We would like to invite you to attend any of the following events. \nPlease bring your Medicare card and a friend to any of these events. We would be glad to meet with them too. If you have any questions\, please feel to reach out to us at (503) 255-5450 and we will be glad to help you. \nWe look forward to seeing you again!
URL:https://wixagency.com/event/medicare-plan-changes-regence/
LOCATION:Wix Portland\, 7300 NE Glisan St.\, Portland\, OR\, 97213
CATEGORIES:Regence,Medicare
END:VEVENT
BEGIN:VEVENT
DTSTART;TZID=America/Los_Angeles:20251015T110000
DTEND;TZID=America/Los_Angeles:20251015T150000
DTSTAMP:20260419T071208
CREATED:20251008T175711Z
LAST-MODIFIED:20251008T175729Z
UID:4800-1760526000-1760540400@wixagency.com
SUMMARY:Medicare Resource Center
DESCRIPTION:It’s that time of year again! \nEvery year\, we like to provide an opportunity to meet with our clients and discuss changes to our client’s specific Medicare plan. Resource centers are an informal “drop-in” event intended to answer questions about your plan. Consider dropping by one of these events\, or call us at (503) 255-5450 to discuss your plan’s 2026 updates.
URL:https://wixagency.com/event/medicare-resource-center/
LOCATION:The Corvallis Clinic Aumann\, 444 NW Elks Dr\, Corvallis\, OR\, 97330
CATEGORIES:Resource Centers,Salem,Medicare
END:VEVENT
BEGIN:VEVENT
DTSTART;TZID=America/Los_Angeles:20251015T100000
DTEND;TZID=America/Los_Angeles:20251016T130000
DTSTAMP:20260419T071208
CREATED:20251008T175547Z
LAST-MODIFIED:20251008T175547Z
UID:4798-1760522400-1760619600@wixagency.com
SUMMARY:Medicare Plan Changes: United Healthcare
DESCRIPTION:Ready for Annual Enrollment Period? \nEvery year\, we like to provide an opportunity to meet with our clients and discuss changes to our client’s specific Medicare plans. This year\, we would like to invite you to one of several events at our Portland office. We plan on holding a number of events that are company/plan specific. This will allow us to review and discuss any upcoming changes to your 2026 Medicare plan. We would like to invite you to attend any of the following events. \nPlease bring your Medicare card and a friend to any of these events. We would be glad to meet with them too. If you have any questions\, please feel to reach out to us at (503) 255-5450 and we will be glad to help you. \nWe look forward to seeing you again!
URL:https://wixagency.com/event/medicare-plan-changes-united-healthcare/
LOCATION:Wix Portland\, 7300 NE Glisan St.\, Portland\, OR\, 97213
CATEGORIES:United Healthcare,Medicare
END:VEVENT
END:VCALENDAR